Workbook

Sheet 表紙
A1: 選 挙 運 動 費 用 収 支 報 告 書 | I1: 1回目提出
A3: １ | B3: 令和８年10月25日執行
A5: ２ | B5: 公職の候補者 | E5: 住 所 | F5: 桂川町大字
E7: 氏 名 | F7: ○○ ○○
A9: ３ | C9: 月 | E9: 日から
F10: （第 １ 回分） | J10: 桂川町長選挙
C11: 月 | E11: 日まで | J11: 桂川町議会議員一般選挙
G12: ※領収書の写しを添付
A13: 選 挙 運 動 費 用 収 支 報 告 書 | I13: 2回目提出
A15: １ | B15: 令和８年10月25日執行 | F15: =F3 -> 0
A17: ２ | B17: 公職の候補者 | E17: 住 所 | F17: =F5 -> 桂川町大字
E19: 氏 名 | F19: =F7 -> ○○ ○○
A21: ３ | C21: 月 | E21: 日から
F22: （第 ２ 回分）
C23: 月 | E23: 日まで
G24: ※領収書の写しを添付
A25: 選 挙 運 動 費 用 収 支 報 告 書 | I25: 3回目提出
A27: １ | B27: 令和８年10月25日執行 | F27: =F3 -> 0
A29: ２ | B29: 公職の候補者 | E29: 住 所 | F29: =F17 -> 桂川町大字
E31: 氏 名 | F31: =F19 -> ○○ ○○
A33: ３ | C33: 月 | E33: 日から
F34: （第 ３ 回分）
C35: 月 | E35: 日まで
G36: ※領収書の写しを添付
A37: 選 挙 運 動 費 用 収 支 報 告 書 | I37: 4回目提出
A39: １ | B39: 令和８年10月25日執行 | F39: =F3 -> 0
A41: ２ | B41: 公職の候補者 | E41: 住 所 | F41: =F29 -> 桂川町大字
E43: 氏 名 | F43: =F31 -> ○○ ○○
A45: ３ | C45: 月 | E45: 日から
F46: （第 ４ 回分）
C47: 月 | E47: 日まで
G48: ※領収書の写しを添付

Sheet 収入
A1: ４ | B1: 収入の部 | L1: （第１回） | N1: 1回目提出
A2: 月 日 | C2: 金額又は見積額 | E2: 種 別 | F2: 寄 附 を し た 者 | K2: 金銭以外の寄附及び その他の収入の見積の根拠 | L2: 備 考
F3: 住所又は主たる事務所の所在地 | I3: 氏名又は団体名 | J3: 職 業
D4: 円
A19: 計 | B19: 寄附 | C19: =SUMIF(E4:E18,"寄 附",C4:C18) -> 0 | D19: 円
B20: その他の収入 | C20: =SUMIF(E4:E18,"その他の収入",C4:C18) -> 0
B21: 計 | C21: =SUM(C19:C20) -> 0
A22: 前回計 | B22: 寄附 | C22: 0 | D22: 円
B23: その他の収入 | C23: 0
B24: 計 | C24: =SUM(C22:C23) -> 0
A25: 総 額 | B25: 寄附 | C25: =C19+C22 -> 0 | D25: 円
B26: その他の収入 | C26: =C20+C23 -> 0
B27: 総計 | C27: =SUM(C25:C26) -> 0 | L27: ①
A28: 参 考 | C28: 公費負担 相当額 | E28: =K28+K29 -> 0 | G28: 円 | H28: （内訳）ビラ作成経費 | L28: 円 | N28: その他の収入
H29: （内訳）ポスター作成経費 | L29: 円 | N29: 寄 附
A30: ４ | B30: 収入の部 | L30: （第２回） | N30: 2回目提出
A31: 月 日 | C31: 金額又は見積額 | E31: 種 別 | F31: 寄 附 を し た 者 | K31: 金銭以外の寄附及び その他の収入の見積の根拠 | L31: 備 考
F32: 住所又は主たる事務所の所在地 | I32: 氏名又は団体名 | J32: 職 業
D33: 円
A48: 計 | B48: 寄附 | C48: =SUMIF(E33:E47,"寄 附",C33:C47) -> 0 | D48: 円
B49: その他の収入 | C49: =SUMIF(E33:E47,"その他の収入",C33:C47) -> 0
B50: 計 | C50: =SUM(C48:C49) -> 0
A51: 前回計 | B51: 寄附 | C51: =C19 -> 0 | D51: 円
B52: その他の収入 | C52: =C20 -> 0
B53: 計 | C53: =SUM(C51:C52) -> 0
A54: 総 額 | B54: 寄附 | C54: =C48+C51 -> 0 | D54: 円
B55: その他の収入 | C55: =C49+C52 -> 0
B56: 総計 | C56: =SUM(C54:C55) -> 0
A57: 参 考 | C57: 公費負担 相当額 | E57: =K57+K58 -> 0 | G57: 円 | H57: （内訳）ビラ作成経費 | L57: 円
H58: （内訳）ポスター作成経費 | L58: 円
A59: ４ | B59: 収入の部 | L59: （第３回） | N59: 3回目提出
A60: 月 日 | C60: 金額又は見積額 | E60: 種 別 | F60: 寄 附 を し た 者 | K60: 金銭以外の寄附及び その他の収入の見積の根拠 | L60: 備 考
F61: 住所又は主たる事務所の所在地 | I61: 氏名又は団体名 | J61: 職 業
D62: 円
A77: 計 | B77: 寄附 | C77: =SUMIF(E62:E76,"寄 附",C62:C76) -> 0 | D77: 円
B78: その他の収入 | C78: =SUMIF(E62:E76,"その他の収入",C62:C76) -> 0
B79: 計 | C79: =SUM(C77:C78) -> 0
A80: 前回計 | B80: 寄附 | C80: =C54 -> 0 | D80: 円
B81: その他の収入 | C81: =C55 -> 0
B82: 計 | C82: =SUM(C80:C81) -> 0
A83: 総 額 | B83: 寄附 | C83: =C77+C80 -> 0 | D83: 円
B84: その他の収入 | C84: =C78+C81 -> 0
B85: 総計 | C85: =SUM(C83:C84) -> 0
A86: 参 考 | C86: 公費負担 相当額 | E86: =K86+K87 -> 0 | G86: 円 | H86: （内訳）ビラ作成経費 | L86: 円
H87: （内訳）ポスター作成経費 | L87: 円
A88: ４ | B88: 収入の部 | L88: （第４回） | N88: 4回目提出
A89: 月 日 | C89: 金額又は見積額 | E89: 種 別 | F89: 寄 附 を し た 者 | K89: 金銭以外の寄附及び その他の収入の見積の根拠 | L89: 備 考
F90: 住所又は主たる事務所の所在地 | I90: 氏名又は団体名 | J90: 職 業
D91: 円
A106: 計 | B106: 寄附 | C106: =SUMIF(E91:E105,"寄 附",C91:C105) -> 0 | D106: 円
B107: その他の収入 | C107: =SUMIF(E91:E105,"その他の収入",C91:C105) -> 0
B108: 計 | C108: =SUM(C106:C107) -> 0
A109: 前回計 | B109: 寄附 | C109: =C83 -> 0 | D109: 円
B110: その他の収入 | C110: =C84 -> 0
B111: 計 | C111: =SUM(C109:C110) -> 0
A112: 総 額 | B112: 寄附 | C112: =C106+C109 -> 0 | D112: 円
B113: その他の収入 | C113: =C107+C110 -> 0
B114: 総計 | C114: =SUM(C112:C113) -> 0
A115: 参 考 | C115: 公費負担 相当額 | E115: =K115+K116 -> 0 | G115: 円 | H115: （内訳）ビラ作成経費 | L115: 円
H116: （内訳）ポスター作成経費 | L116: 円

Sheet 人件費
A1: ５ | B1: 支出の部 【人件費】 | K1: （第１回） | M1: 1回目提出
A2: 月 日 | C2: 金額又は見積額 | E2: 区 分 | F2: 支出の目的 | G2: 支 出 を 受 け た 者 | J2: 金銭以外の支出の 見積の根拠 | K2: 備 考
G3: 住所又は主たる事務所の所在地 | H3: 氏名又は団体名 | I3: 職 業
D4: 円
M24: =SUMIF(E4:E26,"立候補準備",C4:C26) -> 0 | N24: 立候補準備 | O24: 事務員報酬
M25: =SUMIF(E4:E26,"選 挙 運 動",C4:C26) -> 0 | N25: 選 挙 運 動 | O25: 車上運動員報酬
M26: =SUM(M24:M25) -> 0 | O26: 労務者報酬
A27: 小 計 | C27: =SUM(C4:C26) -> 0 | K27: ① | M27: =IF(M26=C27,"OK","NG") -> OK | O27: 手話通訳者報酬
A28: ５ | B28: 支出の部 【人件費】 | K28: （第２回） | M28: 2回目提出 | O28: 要約筆記者報酬
A29: 月 日 | C29: 金額又は見積額 | E29: 区 分 | F29: 支出の目的 | G29: 支 出 を 受 け た 者 | J29: 金銭以外の支出の 見積の根拠 | K29: 備 考
G30: 住所又は主たる事務所の所在地 | H30: 氏名又は団体名 | I30: 職 業
D31: 円
M51: =SUMIF(E31:E53,"立候補準備",C31:C53) -> 0
M52: =SUMIF(E31:E53,"選 挙 運 動",C31:C53) -> 0
M53: =SUM(M51:M52) -> 0
A54: 小 計 | C54: =SUM(C31:C53) -> 0 | K54: ① | M54: =IF(M53=C54,"OK","NG") -> OK
A55: ５ | B55: 支出の部 【人件費】 | K55: （第３回） | M55: 3回目提出
A56: 月 日 | C56: 金額又は見積額 | E56: 区 分 | F56: 支出の目的 | G56: 支 出 を 受 け た 者 | J56: 金銭以外の支出の 見積の根拠 | K56: 備 考
G57: 住所又は主たる事務所の所在地 | H57: 氏名又は団体名 | I57: 職 業
D58: 円
M78: =SUMIF(E58:E80,"立候補準備",C58:C80) -> 0
M79: =SUMIF(E58:E80,"選 挙 運 動",C58:C80) -> 0
M80: =SUM(M78:M79) -> 0
A81: 小 計 | C81: =SUM(C58:C80) -> 0 | K81: ① | M81: =IF(M80=C81,"OK","NG") -> OK
A82: ５ | B82: 支出の部 【人件費】 | K82: （第４回） | M82: 4回目提出
A83: 月 日 | C83: 金額又は見積額 | E83: 区 分 | F83: 支出の目的 | G83: 支 出 を 受 け た 者 | J83: 金銭以外の支出の 見積の根拠 | K83: 備 考
G84: 住所又は主たる事務所の所在地 | H84: 氏名又は団体名 | I84: 職 業
D85: 円
M105: =SUMIF(E85:E107,"立候補準備",C85:C107) -> 0
M106: =SUMIF(E85:E107,"選 挙 運 動",C85:C107) -> 0
M107: =SUM(M105:M106) -> 0
A108: 小 計 | C108: =SUM(C85:C107) -> 0 | K108: ① | M108: =IF(M107=C108,"OK","NG") -> OK

Sheet 家屋（選挙事務費）費
A1: ５ | B1: 支出の部 【家屋費（選挙事務所費）】 | K1: （第１回） | M1: 1回目提出
A2: 月 日 | C2: 金額又は見積額 | E2: 区 分 | F2: 支出の目的 | G2: 支 出 を 受 け た 者 | J2: 金銭以外の支出の 見積の根拠 | K2: 備 考
G3: 住所又は主たる事務所の所在地 | H3: 氏名又は団体名 | I3: 職 業
D4: 円
M24: =SUMIF(E4:E26,"立候補準備",C4:C26) -> 0 | N24: 立候補準備
M25: =SUMIF(E4:E26,"選 挙 運 動",C4:C26) -> 0 | N25: 選 挙 運 動
M26: =SUM(M24:M25) -> 0
A27: 小 計 | C27: =SUM(C4:C26) -> 0 | K27: ② | M27: =IF(M26=C27,"OK","NG") -> OK
A28: ５ | B28: 支出の部 【家屋費（選挙事務所費）】 | K28: （第２回） | M28: 2回目提出
A29: 月 日 | C29: 金額又は見積額 | E29: 区 分 | F29: 支出の目的 | G29: 支 出 を 受 け た 者 | J29: 金銭以外の支出の 見積の根拠 | K29: 備 考
G30: 住所又は主たる事務所の所在地 | H30: 氏名又は団体名 | I30: 職 業
D31: 円
M51: =SUMIF(E31:E53,"立候補準備",C31:C53) -> 0
M52: =SUMIF(E31:E53,"選 挙 運 動",C31:C53) -> 0
M53: =SUM(M51:M52) -> 0
A54: 小 計 | C54: =SUM(C31:C53) -> 0 | K54: ② | M54: =IF(M53=C54+C42,"OK","NG") -> OK
A55: ５ | B55: 支出の部 【家屋費（選挙事務所費）】 | K55: （第３回） | M55: 3回目提出
A56: 月 日 | C56: 金額又は見積額 | E56: 区 分 | F56: 支出の目的 | G56: 支 出 を 受 け た 者 | J56: 金銭以外の支出の 見積の根拠 | K56: 備 考
G57: 住所又は主たる事務所の所在地 | H57: 氏名又は団体名 | I57: 職 業
D58: 円
M78: =SUMIF(E58:E80,"立候補準備",C58:C80) -> 0
M79: =SUMIF(E58:E80,"選 挙 運 動",C58:C80) -> 0
M80: =SUM(M78:M79) -> 0
A81: 小 計 | C81: =SUM(C58:C80) -> 0 | K81: ② | M81: =IF(M80=C81+C69,"OK","NG") -> OK
A82: ５ | B82: 支出の部 【家屋費（選挙事務所費）】 | K82: （第４回） | M82: 4回目提出
A83: 月 日 | C83: 金額又は見積額 | E83: 区 分 | F83: 支出の目的 | G83: 支 出 を 受 け た 者 | J83: 金銭以外の支出の 見積の根拠 | K83: 備 考
G84: 住所又は主たる事務所の所在地 | H84: 氏名又は団体名 | I84: 職 業
D85: 円
M105: =SUMIF(E85:E107,"立候補準備",C85:C107) -> 0
M106: =SUMIF(E85:E107,"選 挙 運 動",C85:C107) -> 0
M107: =SUM(M105:M106) -> 0
A108: 小 計 | C108: =SUM(C85:C107) -> 0 | K108: ② | M108: =IF(M107=C108+C96,"OK","NG") -> OK

Sheet 家屋（集合会場費）費
A1: ５ | B1: 支出の部 【家屋費（集合会場費）】 | K1: （第１回） | M1: 1回目提出
A2: 月 日 | C2: 金額又は見積額 | E2: 区 分 | F2: 支出の目的 | G2: 支 出 を 受 け た 者 | J2: 金銭以外の支出の 見積の根拠 | K2: 備 考
G3: 住所又は主たる事務所の所在地 | H3: 氏名又は団体名 | I3: 職 業
D4: 円
M24: =SUMIF(E4:E26,"立候補準備",C4:C26) -> 0 | N24: 立候補準備
M25: =SUMIF(E4:E26,"選 挙 運 動",C4:C26) -> 0 | N25: 選 挙 運 動
M26: =SUM(M24:M25) -> 0
A27: 小 計 | C27: =SUM(C4:C26) -> 0 | K27: ③ | M27: =IF(M26=C27,"OK","NG") -> OK
A28: ５ | B28: 支出の部 【家屋費（集合会場費）】 | K28: （第２回） | M28: 2回目提出
A29: 月 日 | C29: 金額又は見積額 | E29: 区 分 | F29: 支出の目的 | G29: 支 出 を 受 け た 者 | J29: 金銭以外の支出の 見積の根拠 | K29: 備 考
G30: 住所又は主たる事務所の所在地 | H30: 氏名又は団体名 | I30: 職 業
D31: 円
M51: =SUMIF(E31:E53,"立候補準備",C31:C53) -> 0
M52: =SUMIF(E31:E53,"選 挙 運 動",C31:C53) -> 0
M53: =SUM(M51:M52) -> 0
A54: 小 計 | C54: =SUM(C31:C53) -> 0 | K54: ③ | M54: =IF(M53=C54+C42,"OK","NG") -> OK
A55: ５ | B55: 支出の部 【家屋費（集合会場費）】 | K55: （第３回） | M55: 3回目提出
A56: 月 日 | C56: 金額又は見積額 | E56: 区 分 | F56: 支出の目的 | G56: 支 出 を 受 け た 者 | J56: 金銭以外の支出の 見積の根拠 | K56: 備 考
G57: 住所又は主たる事務所の所在地 | H57: 氏名又は団体名 | I57: 職 業
D58: 円
M78: =SUMIF(E58:E80,"立候補準備",C58:C80) -> 0
M79: =SUMIF(E58:E80,"選 挙 運 動",C58:C80) -> 0
M80: =SUM(M78:M79) -> 0
A81: 小 計 | C81: =SUM(C58:C80) -> 0 | K81: ③ | M81: =IF(M80=C81+C70,"OK","NG") -> OK
A82: ５ | B82: 支出の部 【家屋費（集合会場費）】 | K82: （第４回） | M82: 4回目提出
A83: 月 日 | C83: 金額又は見積額 | E83: 区 分 | F83: 支出の目的 | G83: 支 出 を 受 け た 者 | J83: 金銭以外の支出の 見積の根拠 | K83: 備 考
G84: 住所又は主たる事務所の所在地 | H84: 氏名又は団体名 | I84: 職 業
D85: 円
M105: =SUMIF(E85:E107,"立候補準備",C85:C107) -> 0
M106: =SUMIF(E85:E107,"選 挙 運 動",C85:C107) -> 0
M107: =SUM(M105:M106) -> 0
A108: 小 計 | C108: =SUM(C85:C107) -> 0 | K108: ③ | M108: =IF(M107=C108+C96,"OK","NG") -> OK

Sheet 通信費
A1: ５ | B1: 支出の部 【通信費】 | K1: （第１回） | M1: 1回目提出
A2: 月 日 | C2: 金額又は見積額 | E2: 区 分 | F2: 支出の目的 | G2: 支 出 を 受 け た 者 | J2: 金銭以外の支出の 見積の根拠 | K2: 備 考
G3: 住所又は主たる事務所の所在地 | H3: 氏名又は団体名 | I3: 職 業
D4: 円
M24: =SUMIF(E4:E26,"立候補準備",C4:C26) -> 0 | N24: 立候補準備
M25: =SUMIF(E4:E26,"選 挙 運 動",C4:C26) -> 0 | N25: 選 挙 運 動
M26: =SUM(M24:M25) -> 0
A27: 小 計 | C27: =SUM(C4:C26) -> 0 | K27: ④ | M27: =IF(M26=C27,"OK","NG") -> OK
A28: ５ | B28: 支出の部 【通信費】 | K28: （第２回） | M28: 2回目提出
A29: 月 日 | C29: 金額又は見積額 | E29: 区 分 | F29: 支出の目的 | G29: 支 出 を 受 け た 者 | J29: 金銭以外の支出の 見積の根拠 | K29: 備 考
G30: 住所又は主たる事務所の所在地 | H30: 氏名又は団体名 | I30: 職 業
D31: 円
M51: =SUMIF(E31:E53,"立候補準備",C31:C53) -> 0
M52: =SUMIF(E31:E53,"選 挙 運 動",C31:C53) -> 0
M53: =SUM(M51:M52) -> 0
A54: 小 計 | C54: =SUM(C31:C53) -> 0 | K54: ④ | M54: =IF(M53=C54,"OK","NG") -> OK
A55: ５ | B55: 支出の部 【通信費】 | K55: （第３回） | M55: 3回目提出
A56: 月 日 | C56: 金額又は見積額 | E56: 区 分 | F56: 支出の目的 | G56: 支 出 を 受 け た 者 | J56: 金銭以外の支出の 見積の根拠 | K56: 備 考
G57: 住所又は主たる事務所の所在地 | H57: 氏名又は団体名 | I57: 職 業
D58: 円
M78: =SUMIF(E58:E80,"立候補準備",C58:C80) -> 0
M79: =SUMIF(E58:E80,"選 挙 運 動",C58:C80) -> 0
M80: =SUM(M78:M79) -> 0
A81: 小 計 | C81: =SUM(C58:C80) -> 0 | K81: ④ | M81: =IF(M80=C81,"OK","NG") -> OK
A82: ５ | B82: 支出の部 【通信費】 | K82: （第４回） | M82: 4回目提出
A83: 月 日 | C83: 金額又は見積額 | E83: 区 分 | F83: 支出の目的 | G83: 支 出 を 受 け た 者 | J83: 金銭以外の支出の 見積の根拠 | K83: 備 考
G84: 住所又は主たる事務所の所在地 | H84: 氏名又は団体名 | I84: 職 業
D85: 円
M105: =SUMIF(E85:E107,"立候補準備",C85:C107) -> 0
M106: =SUMIF(E85:E107,"選 挙 運 動",C85:C107) -> 0
M107: =SUM(M105:M106) -> 0
A108: 小 計 | C108: =SUM(C85:C107) -> 0 | K108: ④ | M108: =IF(M107=C108,"OK","NG") -> OK

Sheet 交通費
A1: ５ | B1: 支出の部 【交通費】 | K1: （第１回） | M1: 1回目提出
A2: 月 日 | C2: 金額又は見積額 | E2: 区 分 | F2: 支出の目的 | G2: 支 出 を 受 け た 者 | J2: 金銭以外の支出の 見積の根拠 | K2: 備 考
G3: 住所又は主たる事務所の所在地 | H3: 氏名又は団体名 | I3: 職 業
D4: 円
M24: =SUMIF(E4:E26,"立候補準備",C4:C26) -> 0
M25: =SUMIF(E4:E26,"選 挙 運 動",C4:C26) -> 0 | N25: 立候補準備
M26: =SUM(M24:M25) -> 0 | N26: 選 挙 運 動
A27: 小 計 | C27: =SUM(C4:C26) -> 0 | K27: ⑤ | M27: =IF(M26=C27,"OK","NG") -> OK
A28: ５ | B28: 支出の部 【交通費】 | K28: （第２回） | M28: 2回目提出
A29: 月 日 | C29: 金額又は見積額 | E29: 区 分 | F29: 支出の目的 | G29: 支 出 を 受 け た 者 | J29: 金銭以外の支出の 見積の根拠 | K29: 備 考
G30: 住所又は主たる事務所の所在地 | H30: 氏名又は団体名 | I30: 職 業
D31: 円
M51: =SUMIF(E31:E53,"立候補準備",C31:C53) -> 0
M52: =SUMIF(E31:E53,"選 挙 運 動",C31:C53) -> 0
M53: =SUM(M51:M52) -> 0
A54: 小 計 | C54: =SUM(C31:C53) -> 0 | K54: ⑤ | M54: =IF(M53=C54+C42,"OK","NG") -> OK
A55: ５ | B55: 支出の部 【交通費】 | K55: （第３回） | M55: 3回目提出
A56: 月 日 | C56: 金額又は見積額 | E56: 区 分 | F56: 支出の目的 | G56: 支 出 を 受 け た 者 | J56: 金銭以外の支出の 見積の根拠 | K56: 備 考
G57: 住所又は主たる事務所の所在地 | H57: 氏名又は団体名 | I57: 職 業
D58: 円
M78: =SUMIF(E58:E80,"立候補準備",C58:C80) -> 0
M79: =SUMIF(E58:E80,"選 挙 運 動",C58:C80) -> 0
M80: =SUM(M78:M79) -> 0
A81: 小 計 | C81: =SUM(C58:C80) -> 0 | K81: ⑤ | M81: =IF(M80=C81+C69,"OK","NG") -> OK
A82: ５ | B82: 支出の部 【交通費】 | K82: （第４回） | M82: 4回目提出
A83: 月 日 | C83: 金額又は見積額 | E83: 区 分 | F83: 支出の目的 | G83: 支 出 を 受 け た 者 | J83: 金銭以外の支出の 見積の根拠 | K83: 備 考
G84: 住所又は主たる事務所の所在地 | H84: 氏名又は団体名 | I84: 職 業
D85: 円
M105: =SUMIF(E85:E107,"立候補準備",C85:C107) -> 0
M106: =SUMIF(E85:E107,"選 挙 運 動",C85:C107) -> 0
M107: =SUM(M105:M106) -> 0
A108: 小 計 | C108: =SUM(C85:C107) -> 0 | K108: ⑤ | M108: =IF(M107=C108+C96,"OK","NG") -> OK

Sheet 印刷費
A1: ５ | B1: 支出の部 【印刷費】 | K1: （第１回） | M1: 1回目提出
A2: 月 日 | C2: 金額又は見積額 | E2: 区 分 | F2: 支出の目的 | G2: 支 出 を 受 け た 者 | J2: 金銭以外の支出の 見積の根拠 | K2: 備 考
G3: 住所又は主たる事務所の所在地 | H3: 氏名又は団体名 | I3: 職 業
D4: 円
M24: =SUMIF(E4:E26,"立候補準備",C4:C26) -> 0
M25: =SUMIF(E4:E26,"選 挙 運 動",C4:C26) -> 0 | N25: 立候補準備
M26: =SUM(M24:M25) -> 0 | N26: 選 挙 運 動
A27: 小 計 | C27: =SUM(C4:C26) -> 0 | K27: ⑥ | M27: =IF(M26=C27,"OK","NG") -> OK
A28: ５ | B28: 支出の部 【印刷費】 | K28: （第２回） | M28: 2回目提出
A29: 月 日 | C29: 金額又は見積額 | E29: 区 分 | F29: 支出の目的 | G29: 支 出 を 受 け た 者 | J29: 金銭以外の支出の 見積の根拠 | K29: 備 考
G30: 住所又は主たる事務所の所在地 | H30: 氏名又は団体名 | I30: 職 業
D31: 円
M51: =SUMIF(E31:E53,"立候補準備",C31:C53) -> 0
M52: =SUMIF(E31:E53,"選 挙 運 動",C31:C53) -> 0
M53: =SUM(M51:M52) -> 0
A54: 小 計 | C54: =SUM(C31:C53) -> 0 | K54: ⑥ | M54: =IF(M53=C54,"OK","NG") -> OK
A55: ５ | B55: 支出の部 【印刷費】 | K55: （第３回） | M55: 3回目提出
A56: 月 日 | C56: 金額又は見積額 | E56: 区 分 | F56: 支出の目的 | G56: 支 出 を 受 け た 者 | J56: 金銭以外の支出の 見積の根拠 | K56: 備 考
G57: 住所又は主たる事務所の所在地 | H57: 氏名又は団体名 | I57: 職 業
D58: 円
M78: =SUMIF(E58:E80,"立候補準備",C58:C80) -> 0
M79: =SUMIF(E58:E80,"選 挙 運 動",C58:C80) -> 0
M80: =SUM(M78:M79) -> 0
A81: 小 計 | C81: =SUM(C58:C80) -> 0 | K81: ⑥ | M81: =IF(M80=C81,"OK","NG") -> OK
A82: ５ | B82: 支出の部 【印刷費】 | K82: （第４回） | M82: 4回目提出
A83: 月 日 | C83: 金額又は見積額 | E83: 区 分 | F83: 支出の目的 | G83: 支 出 を 受 け た 者 | J83: 金銭以外の支出の 見積の根拠 | K83: 備 考
G84: 住所又は主たる事務所の所在地 | H84: 氏名又は団体名 | I84: 職 業
D85: 円
M105: =SUMIF(E85:E107,"立候補準備",C85:C107) -> 0
M106: =SUMIF(E85:E107,"選 挙 運 動",C85:C107) -> 0
M107: =SUM(M105:M106) -> 0
A108: 小 計 | C108: =SUM(C85:C107) -> 0 | K108: ⑥ | M108: =IF(M107=C108,"OK","NG") -> OK

Sheet 広告費
A1: ５ | B1: 支出の部 【広告費】 | K1: （第１回） | M1: 1回目提出
A2: 月 日 | C2: 金額又は見積額 | E2: 区 分 | F2: 支出の目的 | G2: 支 出 を 受 け た 者 | J2: 金銭以外の支出の 見積の根拠 | K2: 備 考
G3: 住所又は主たる事務所の所在地 | H3: 氏名又は団体名 | I3: 職 業
D4: 円
M24: =SUMIF(E4:E26,"立候補準備",C4:C26) -> 0
M25: =SUMIF(E4:E26,"選 挙 運 動",C4:C26) -> 0 | N25: 立候補準備
M26: =SUM(M24:M25) -> 0 | N26: 選 挙 運 動
A27: 小 計 | C27: =SUM(C4:C26) -> 0 | K27: ⑦ | M27: =IF(M26=C27,"OK","NG") -> OK
A28: ５ | B28: 支出の部 【広告費】 | K28: （第２回） | M28: 2回目提出
A29: 月 日 | C29: 金額又は見積額 | E29: 区 分 | F29: 支出の目的 | G29: 支 出 を 受 け た 者 | J29: 金銭以外の支出の 見積の根拠 | K29: 備 考
G30: 住所又は主たる事務所の所在地 | H30: 氏名又は団体名 | I30: 職 業
D31: 円
M51: =SUMIF(E31:E53,"立候補準備",C31:C53) -> 0
M52: =SUMIF(E31:E53,"選 挙 運 動",C31:C53) -> 0
M53: =SUM(M51:M52) -> 0
A54: 小 計 | C54: =SUM(C31:C53) -> 0 | K54: ⑦ | M54: =IF(M53=C54,"OK","NG") -> OK
A55: ５ | B55: 支出の部 【広告費】 | K55: （第３回） | M55: 3回目提出
A56: 月 日 | C56: 金額又は見積額 | E56: 区 分 | F56: 支出の目的 | G56: 支 出 を 受 け た 者 | J56: 金銭以外の支出の 見積の根拠 | K56: 備 考
G57: 住所又は主たる事務所の所在地 | H57: 氏名又は団体名 | I57: 職 業
D58: 円
M78: =SUMIF(E58:E80,"立候補準備",C58:C80) -> 0
M79: =SUMIF(E58:E80,"選 挙 運 動",C58:C80) -> 0
M80: =SUM(M78:M79) -> 0
A81: 小 計 | C81: =SUM(C58:C80) -> 0 | K81: ⑦ | M81: =IF(M80=C81,"OK","NG") -> OK
A82: ５ | B82: 支出の部 【広告費】 | K82: （第４回） | M82: 4回目提出
A83: 月 日 | C83: 金額又は見積額 | E83: 区 分 | F83: 支出の目的 | G83: 支 出 を 受 け た 者 | J83: 金銭以外の支出の 見積の根拠 | K83: 備 考
G84: 住所又は主たる事務所の所在地 | H84: 氏名又は団体名 | I84: 職 業
D85: 円
M105: =SUMIF(E85:E107,"立候補準備",C85:C107) -> 0
M106: =SUMIF(E85:E107,"選 挙 運 動",C85:C107) -> 0
M107: =SUM(M105:M106) -> 0
A108: 小 計 | C108: =SUM(C85:C107) -> 0 | K108: ⑦ | M108: =IF(M107=C108,"OK","NG") -> OK

Sheet 文具費
A1: ５ | B1: 支出の部 【文具費】 | K1: （第１回） | M1: 1回目提出
A2: 月 日 | C2: 金額又は見積額 | E2: 区 分 | F2: 支出の目的 | G2: 支 出 を 受 け た 者 | J2: 金銭以外の支出の 見積の根拠 | K2: 備 考
G3: 住所又は主たる事務所の所在地 | H3: 氏名又は団体名 | I3: 職 業
D4: 円
M24: =SUMIF(E4:E26,"立候補準備",C4:C26) -> 0
M25: =SUMIF(E4:E26,"選 挙 運 動",C4:C26) -> 0 | N25: 立候補準備
M26: =SUM(M24:M25) -> 0 | N26: 選 挙 運 動
A27: 小 計 | C27: =SUM(C4:C26) -> 0 | K27: ⑧ | M27: =IF(M26=C27,"OK","NG") -> OK
A28: ５ | B28: 支出の部 【文具費】 | K28: （第２回） | M28: 2回目提出
A29: 月 日 | C29: 金額又は見積額 | E29: 区 分 | F29: 支出の目的 | G29: 支 出 を 受 け た 者 | J29: 金銭以外の支出の 見積の根拠 | K29: 備 考
G30: 住所又は主たる事務所の所在地 | H30: 氏名又は団体名 | I30: 職 業
D31: 円
M51: =SUMIF(E31:E53,"立候補準備",C31:C53) -> 0
M52: =SUMIF(E31:E53,"選 挙 運 動",C31:C53) -> 0
M53: =SUM(M51:M52) -> 0
A54: 小 計 | C54: =SUM(C31:C53) -> 0 | K54: ⑧ | M54: =IF(M53=C54,"OK","NG") -> OK
A55: ５ | B55: 支出の部 【文具費】 | K55: （第３回） | M55: 3回目提出
A56: 月 日 | C56: 金額又は見積額 | E56: 区 分 | F56: 支出の目的 | G56: 支 出 を 受 け た 者 | J56: 金銭以外の支出の 見積の根拠 | K56: 備 考
G57: 住所又は主たる事務所の所在地 | H57: 氏名又は団体名 | I57: 職 業
D58: 円
M78: =SUMIF(E58:E80,"立候補準備",C58:C80) -> 0
M79: =SUMIF(E58:E80,"選 挙 運 動",C58:C80) -> 0
M80: =SUM(M78:M79) -> 0
A81: 小 計 | C81: =SUM(C58:C80) -> 0 | K81: ⑧ | M81: =IF(M80=C81,"OK","NG") -> OK
A82: ５ | B82: 支出の部 【文具費】 | K82: （第４回） | M82: 4回目提出
A83: 月 日 | C83: 金額又は見積額 | E83: 区 分 | F83: 支出の目的 | G83: 支 出 を 受 け た 者 | J83: 金銭以外の支出の 見積の根拠 | K83: 備 考
G84: 住所又は主たる事務所の所在地 | H84: 氏名又は団体名 | I84: 職 業
D85: 円
M105: =SUMIF(E85:E107,"立候補準備",C85:C107) -> 0
M106: =SUMIF(E85:E107,"選 挙 運 動",C85:C107) -> 0
M107: =SUM(M105:M106) -> 0
A108: 小 計 | C108: =SUM(C85:C107) -> 0 | K108: ⑧ | M108: =IF(M107=C108,"OK","NG") -> OK

Sheet 食糧費
A1: ５ | B1: 支出の部 【食糧費】 | K1: （第１回の①） | M1: 1回目提出1枚目
A2: 月 日 | C2: 金額又は見積額 | E2: 区 分 | F2: 支出の目的 | G2: 支 出 を 受 け た 者 | J2: 金銭以外の支出の 見積の根拠 | K2: 備 考
G3: 住所又は主たる事務所の所在地 | H3: 氏名又は団体名 | I3: 職 業
D4: 円
P19: 弁当代
P20: 弁当調整費
P21: お茶代
P22: 菓子代
P23: 選挙運動員実費弁償
M24: =SUMIF(E4:E26,"立候補準備",C4:C26) -> 0 | N24: 立候補準備 | P24: 車上運動員実費弁償
M25: =SUMIF(E4:E26,"選 挙 運 動",C4:C26) -> 0 | N25: 選 挙 運 動 | P25: 事務員実費弁償
M26: =SUM(M24:M25) -> 0 | P26: 手話通訳者実費弁償
A27: 小 計 | C27: =SUM(C4:C26) -> 0 | D27: ① | K27: ⑨ | M27: =IF(M26=C27,"OK","NG") -> OK | P27: 要約筆記者実費弁償
A28: ５ | B28: 支出の部 【食糧費】 | K28: （第１回の②）
A29: 月 日 | C29: 金額又は見積額 | E29: 区 分 | F29: 支出の目的 | G29: 支 出 を 受 け た 者 | J29: 金銭以外の支出の 見積の根拠 | K29: 備 考 | M29: 1回目提出2枚目
G30: 住所又は主たる事務所の所在地 | H30: 氏名又は団体名 | I30: 職 業
D31: 円
M50: =SUMIF(E4:E52,"立候補準備",C4:C52) -> 0
M51: =SUMIF(E4:E52,"選 挙 運 動",C4:C52) -> 0
M52: =SUM(M50:M51) -> 0
A53: 小 計 | C53: =SUM(C31:C52) -> 0 | D53: ② | M53: =IF(M52=C54,"OK","NG") -> OK
A54: 小計①+② | C54: =C27+C53 -> 0 | K54: ⑨
A55: ５ | B55: 支出の部 【食糧費】 | K55: （第２回） | M55: 2回目提出
A56: 月 日 | C56: 金額又は見積額 | E56: 区 分 | F56: 支出の目的 | G56: 支 出 を 受 け た 者 | J56: 金銭以外の支出の 見積の根拠 | K56: 備 考
G57: 住所又は主たる事務所の所在地 | H57: 氏名又は団体名 | I57: 職 業
D58: 円
M78: =SUMIF(E58:E80,"立候補準備",C58:C80) -> 0
M79: =SUMIF(E58:E80,"選 挙 運 動",C58:C80) -> 0
M80: =SUM(M78:M79) -> 0
A81: 小 計 | C81: =SUM(C58:C80) -> 0 | K81: ⑨ | M81: =IF(M80=C81,"OK","NG") -> OK
A82: ５ | B82: 支出の部 【食糧費】 | K82: （第３回） | M82: 3回目提出
A83: 月 日 | C83: 金額又は見積額 | E83: 区 分 | F83: 支出の目的 | G83: 支 出 を 受 け た 者 | J83: 金銭以外の支出の 見積の根拠 | K83: 備 考
G84: 住所又は主たる事務所の所在地 | H84: 氏名又は団体名 | I84: 職 業
D85: 円
M105: =SUMIF(E85:E107,"立候補準備",C85:C107) -> 0
M106: =SUMIF(E85:E107,"選 挙 運 動",C85:C107) -> 0
M107: =SUM(M105:M106) -> 0
A108: 小 計 | C108: =SUM(C85:C107) -> 0 | K108: ⑨ | M108: =IF(M107=C108,"OK","NG") -> OK
A109: ５ | B109: 支出の部 【食糧費】 | K109: （第４回） | M109: 4回目提出
A110: 月 日 | C110: 金額又は見積額 | E110: 区 分 | F110: 支出の目的 | G110: 支 出 を 受 け た 者 | J110: 金銭以外の支出の 見積の根拠 | K110: 備 考
G111: 住所又は主たる事務所の所在地 | H111: 氏名又は団体名 | I111: 職 業
D112: 円
M132: =SUMIF(E112:E134,"立候補準備",C112:C134) -> 0
M133: =SUMIF(E112:E134,"選 挙 運 動",C112:C134) -> 0
M134: =SUM(M132:M133) -> 0
A135: 小 計 | C135: =SUM(C112:C134) -> 0 | K135: ⑨ | M135: =IF(M134=C135,"OK","NG") -> OK

Sheet 休泊費
A1: ５ | B1: 支出の部 【休泊費】 | K1: （第１回） | M1: 1回目提出
A2: 月 日 | C2: 金額又は見積額 | E2: 区 分 | F2: 支出の目的 | G2: 支 出 を 受 け た 者 | J2: 金銭以外の支出の 見積の根拠 | K2: 備 考
G3: 住所又は主たる事務所の所在地 | H3: 氏名又は団体名 | I3: 職 業
D4: 円
M24: =SUMIF(E4:E26,"立候補準備",C4:C26) -> 0
M25: =SUMIF(E4:E26,"選 挙 運 動",C4:C26) -> 0 | N25: 立候補準備
M26: =SUM(M24:M25) -> 0 | N26: 選 挙 運 動
A27: 小 計 | C27: =SUM(C4:C26) -> 0 | K27: ⑩ | M27: =IF(M26=C27,"OK","NG") -> OK
A28: ５ | B28: 支出の部 【休泊費】 | K28: （第２回） | M28: 2回目提出
A29: 月 日 | C29: 金額又は見積額 | E29: 区 分 | F29: 支出の目的 | G29: 支 出 を 受 け た 者 | J29: 金銭以外の支出の 見積の根拠 | K29: 備 考
G30: 住所又は主たる事務所の所在地 | H30: 氏名又は団体名 | I30: 職 業
D31: 円
M51: =SUMIF(E31:E53,"立候補準備",C31:C53) -> 0
M52: =SUMIF(E31:E53,"選 挙 運 動",C31:C53) -> 0
M53: =SUM(M51:M52) -> 0
A54: 小 計 | C54: =SUM(C31:C53) -> 0 | K54: ⑩ | M54: =IF(M53=C54,"OK","NG") -> OK
A55: ５ | B55: 支出の部 【休泊費】 | K55: （第３回） | M55: 3回目提出
A56: 月 日 | C56: 金額又は見積額 | E56: 区 分 | F56: 支出の目的 | G56: 支 出 を 受 け た 者 | J56: 金銭以外の支出の 見積の根拠 | K56: 備 考
G57: 住所又は主たる事務所の所在地 | H57: 氏名又は団体名 | I57: 職 業
D58: 円
M78: =SUMIF(E58:E80,"立候補準備",C58:C80) -> 0
M79: =SUMIF(E58:E80,"選 挙 運 動",C58:C80) -> 0
M80: =SUM(M78:M79) -> 0
A81: 小 計 | C81: =SUM(C58:C80) -> 0 | K81: ⑩ | M81: =IF(M80=C81,"OK","NG") -> OK
A82: ５ | B82: 支出の部 【休泊費】 | K82: （第４回） | M82: 4回目提出
A83: 月 日 | C83: 金額又は見積額 | E83: 区 分 | F83: 支出の目的 | G83: 支 出 を 受 け た 者 | J83: 金銭以外の支出の 見積の根拠 | K83: 備 考
G84: 住所又は主たる事務所の所在地 | H84: 氏名又は団体名 | I84: 職 業
D85: 円
M105: =SUMIF(E85:E107,"立候補準備",C85:C107) -> 0
M106: =SUMIF(E85:E107,"選 挙 運 動",C85:C107) -> 0
M107: =SUM(M105:M106) -> 0
A108: 小 計 | C108: =SUM(C85:C107) -> 0 | K108: ⑩ | M108: =IF(M107=C108,"OK","NG") -> OK

Sheet 雑費
A1: ５ | B1: 支出の部 【雑 費】 | K1: （第１回の①） | M1: 1回目提出
A2: 月 日 | C2: 金額又は見積額 | E2: 区 分 | F2: 支出の目的 | G2: 支 出 を 受 け た 者 | J2: 金銭以外の支出の 見積の根拠 | K2: 備 考
G3: 住所又は主たる事務所の所在地 | H3: 氏名又は団体名 | I3: 職 業
D4: 円
M24: =SUMIF(E4:E26,"立候補準備",C4:C26) -> 0 | N24: 立候補準備
M25: =SUMIF(E4:E26,"選 挙 運 動",C4:C26) -> 0 | N25: 選 挙 運 動
M26: =SUM(M24:M25) -> 0
A27: 小 計 | C27: =SUM(C4:C26) -> 0 | D27: ① | K27: ⑪ | M27: =IF(M26=C27,"OK","NG") -> OK
A28: ５ | B28: 支出の部 【雑 費】 | K28: （第１回の②）
A29: 月 日 | C29: 金額又は見積額 | E29: 区 分 | F29: 支出の目的 | G29: 支 出 を 受 け た 者 | J29: 金銭以外の支出の 見積の根拠 | K29: 備 考 | M29: 1回目提出2枚目
G30: 住所又は主たる事務所の所在地 | H30: 氏名又は団体名 | I30: 職 業
D31: 円
M50: =SUMIF(E4:E52,"立候補準備",C4:C52) -> 0
M51: =SUMIF(E4:E52,"選 挙 運 動",C4:C52) -> 0
M52: =SUM(M50:M51) -> 0
A53: 小 計 | C53: =SUM(C31:C52) -> 0 | D53: ② | M53: =IF(M52=C54,"OK","NG") -> OK
A54: 小計①+② | C54: =C27+C53 -> 0 | K54: ⑪
A55: ５ | B55: 支出の部 【雑 費】 | K55: （第２回） | M55: 2回目提出
A56: 月 日 | C56: 金額又は見積額 | E56: 区 分 | F56: 支出の目的 | G56: 支 出 を 受 け た 者 | J56: 金銭以外の支出の 見積の根拠 | K56: 備 考
G57: 住所又は主たる事務所の所在地 | H57: 氏名又は団体名 | I57: 職 業
D58: 円
M78: =SUMIF(E58:E80,"立候補準備",C58:C80) -> 0
M79: =SUMIF(E58:E80,"選 挙 運 動",C58:C80) -> 0
M80: =SUM(M78:M79) -> 0
A81: 小 計 | C81: =SUM(C58:C80) -> 0 | K81: ⑪ | M81: =IF(M80=C81,"OK","NG") -> OK
A82: ５ | B82: 支出の部 【雑 費】 | K82: （第３回） | M82: 3回目提出
A83: 月 日 | C83: 金額又は見積額 | E83: 区 分 | F83: 支出の目的 | G83: 支 出 を 受 け た 者 | J83: 金銭以外の支出の 見積の根拠 | K83: 備 考
G84: 住所又は主たる事務所の所在地 | H84: 氏名又は団体名 | I84: 職 業
D85: 円
M105: =SUMIF(E85:E107,"立候補準備",C85:C107) -> 0
M106: =SUMIF(E85:E107,"選 挙 運 動",C85:C107) -> 0
M107: =SUM(M105:M106) -> 0
A108: 小 計 | C108: =SUM(C85:C107) -> 0 | K108: ⑪ | M108: =IF(M107=C108,"OK","NG") -> OK
A109: ５ | B109: 支出の部 【雑 費】 | K109: （第４回） | M109: 4回目提出
A110: 月 日 | C110: 金額又は見積額 | E110: 区 分 | F110: 支出の目的 | G110: 支 出 を 受 け た 者 | J110: 金銭以外の支出の 見積の根拠 | K110: 備 考
G111: 住所又は主たる事務所の所在地 | H111: 氏名又は団体名 | I111: 職 業
D112: 円
M132: =SUMIF(E112:E134,"立候補準備",C112:C134) -> 0
M133: =SUMIF(E112:E134,"選 挙 運 動",C112:C134) -> 0
M134: =SUM(M132:M133) -> 0
A135: 小 計 | C135: =SUM(C112:C134) -> 0 | K135: ⑪ | M135: =IF(M134=C135,"OK","NG") -> OK

Sheet 支出合計
A1: ５ | B1: 支出の部 | L1: （第１回） | O1: 1回目提出
A2: 月 日 | C2: 金額又は見積額 | E2: 区 分 | F2: 支出の目的 | G2: 支 出 を 受 け た 者 | K2: 金銭以外の支出の 見積の根拠 | L2: 備 考
G3: 住所又は主たる事務所の所在地 | I3: 氏名又は団体名 | J3: 職 業
A4: 計 | B4: 立候補準備の ための支出 | C4: =SUM(人件費!M24,'家屋（選挙事務費）費'!M24,'家屋（集合会場費）費'!M24,通信費!M24,交通費!M24,印刷費!M24,広告費!M24,文具費!M24,食糧費!M50,休泊費!M24,雑費!M50) -> 0 | D4: 円
B5: 選挙運動の ための支出 | C5: =SUM(人件費!M25,'家屋（選挙事務費）費'!M25,'家屋（集合会場費）費'!M25,通信費!M25,交通費!M25,印刷費!M25,広告費!M25,文具費!M25,食糧費!M51,休泊費!M25,雑費!M51) -> 0
B6: 計 | C6: =SUM(C4:C5) -> 0
A7: 前回計 | B7: 立候補準備の ための支出 | C7: 0 | D7: 円
B8: 選挙運動の ための支出 | C8: 0
B9: 計 | C9: 0
A10: 総 額 | B10: 立候補準備の ための支出 | C10: =C4+C7 -> 0 | D10: 円
B11: 選挙運動の ための支出 | C11: =C5+C8 -> 0
B12: 総 計 | C12: =SUM(C10:C11) -> 0
A13: 支出のうち 公費負担 相当額 | C13: 項 目 | G13: 単価（Ａ） | I13: 枚数（Ｂ） | K13: 金額（Ａ）×（Ｂ）＝（Ｃ）
C14: ビラの作成 | H14: 円 | J14: 枚 | K14: =G14*I14 -> 0 | M14: 円
C15: ポスターの作成 | H15: 円 | J15: 枚 | K15: =G15*I15 -> 0 | M15: 円
C16: 計 | K16: =SUM(K14:L15) -> 0 | M16: 円
B17: この報告書は、公職選挙法の規定に従って作製したものであって、真実に相違ありません。
B18: 令 和 | D18: 年
B19: 出納責任者 | D19: （住 所） | F19: 桂川町大字
D20: （氏 名） | F20: □□ □□
A21: 備 考
A22: １ | B22: 収入の部においては、一件１万円を超えるものについては各件ごとに記載し、一件１万円以下のものについては種別ごとに各収入日における合計額を一欄に記載するものとする。
B23: なお、寄附については、一件１万円以下のものについても必要に応じて各件ごとに記載してさしつかえない。
A24: ２ | B24: 収入の部中「種別」欄には、「寄附金」、「その他の収入」の区別を明記するものとする。
A25: ３ | B25: 収入の部中「参考｣欄には、選挙運動に係る公費負担相当額（ビラ、ポスターの作成にかかるものをいう。以下同じ）を記載するものとし、また、その他の参考となる事項を記載することができるものとする。
A26: ４ | B26: 支出の部中「区分」欄には、「立候補準備」のために支出した費用と「選挙運動」のために支出した費用との区別を明記するものとする。
A27: ５ | B27: 支出の部中「支出のうち公費負担相当額」欄には、選挙運動にかかる公費負担相当額を記載するものとする。
B28: ただし、各項目において二以上の契約がある場合には、契約ごとに欄を追加して記載するものとする。
A29: ６ | B29: 精算届出後の報告書にあっては、「収入の部」「支出の部」ともに前回報告した金額をあわせて総額の欄に記入するものとする。
A30: ７ | B30: 収入の部の記載については、会計帳簿の収入簿の２から６までの例により、支出の部の記載については、同支出簿の３から７までの例によるものとする。
A31: ８ | B31: 出納責任者本人が提出する場合にあつては本人確認書類の提示又は提出を、その代理人が提出する場合にあつては委任状の提示又は提出及び当該代理人の本人確認書類の提示又は提出を行うこと。
B32: ただし、出納責任者本人の署名その他の措置がある場合はこの限りではない。
A34: ５ | B34: 支出の部 | L34: （第２回） | O34: 2回目提出
A35: 月 日 | C35: 金額又は見積額 | E35: 区 分 | F35: 支出の目的 | G35: 支 出 を 受 け た 者 | K35: 金銭以外の支出の 見積の根拠 | L35: 備 考
G36: 住所又は主たる事務所の所在地 | I36: 氏名又は団体名 | J36: 職 業
A37: 計 | B37: 立候補準備の ための支出 | C37: =SUM(人件費!M51,'家屋（選挙事務費）費'!M51,'家屋（集合会場費）費'!M51,通信費!M51,交通費!M51,印刷費!M51,広告費!M51,文具費!M51,食糧費!M78,休泊費!M51,雑費!M78) -> 0 | D37: 円
B38: 選挙運動の ための支出 | C38: =SUM(人件費!M52,'家屋（選挙事務費）費'!M52,'家屋（集合会場費）費'!M52,通信費!M52,交通費!M52,印刷費!M52,広告費!M52,文具費!M52,食糧費!M79,休泊費!M52,雑費!M79) -> 0
B39: 計 | C39: =SUM(C37:C38) -> 0
A40: 前回計 | B40: 立候補準備の ための支出 | C40: =C10 -> 0 | D40: 円
B41: 選挙運動の ための支出 | C41: =C11 -> 0
B42: 計 | C42: =SUM(C40:C41) -> 0
A43: 総 額 | B43: 立候補準備の ための支出 | C43: =C37+C40 -> 0 | D43: 円
B44: 選挙運動の ための支出 | C44: =C38+C41 -> 0
B45: 総 計 | C45: =SUM(C43:C44) -> 0
A46: 支出のうち 公費負担 相当額 | C46: 項 目 | G46: 単価（Ａ） | I46: 枚数（Ｂ） | K46: 金額（Ａ）×（Ｂ）＝（Ｃ）
C47: ビラの作成 | H47: 円 | J47: 枚 | K47: =G47*I47 -> 0 | M47: 円
C48: ポスターの作成 | H48: 円 | J48: 枚 | K48: =G48*I48 -> 0 | M48: 円
C49: 計 | K49: =SUM(K47:L48) -> 0 | M49: 円
B50: この報告書は、公職選挙法の規定に従って作製したものであって、真実に相違ありません。
B51: 令 和 | D51: 年
B52: 出納責任者 | D52: （住 所） | F52: =F19 -> 桂川町大字
D53: （氏 名） | F53: =F20 -> □□ □□
A54: 備 考
A55: １ | B55: 収入の部においては、一件１万円を超えるものについては各件ごとに記載し、一件１万円以下のものについては種別ごとに各収入日における合計額を一欄に記載するものとする。
B56: なお、寄附については、一件１万円以下のものについても必要に応じて各件ごとに記載してさしつかえない。
A57: ２ | B57: 収入の部中「種別」欄には、「寄附金」、「その他の収入」の区別を明記するものとする。
A58: ３ | B58: 収入の部中「参考｣欄には、選挙運動に係る公費負担相当額（ビラ、ポスターの作成にかかるものをいう。以下同じ）を記載するものとし、また、その他の参考となる事項を記載することができるものとする。
A59: ４ | B59: 支出の部中「区分」欄には、「立候補準備」のために支出した費用と「選挙運動」のために支出した費用との区別を明記するものとする。
A60: ５ | B60: 支出の部中「支出のうち公費負担相当額」欄には、選挙運動にかかる公費負担相当額を記載するものとする。
B61: ただし、各項目において二以上の契約がある場合には、契約ごとに欄を追加して記載するものとする。
A62: ６ | B62: 精算届出後の報告書にあっては、「収入の部」「支出の部」ともに前回報告した金額をあわせて総額の欄に記入するものとする。
A63: ７ | B63: 収入の部の記載については、会計帳簿の収入簿の２から６までの例により、支出の部の記載については、同支出簿の３から７までの例によるものとする。
A64: ８ | B64: 出納責任者本人が提出する場合にあつては本人確認書類の提示又は提出を、その代理人が提出する場合にあつては委任状の提示又は提出及び当該代理人の本人確認書類の提示又は提出を行うこと。
B65: ただし、出納責任者本人の署名その他の措置がある場合はこの限りではない。
A67: ５ | B67: 支出の部 | L67: （第３回） | O67: 3回目提出
A68: 月 日 | C68: 金額又は見積額 | E68: 区 分 | F68: 支出の目的 | G68: 支 出 を 受 け た 者 | K68: 金銭以外の支出の 見積の根拠 | L68: 備 考
G69: 住所又は主たる事務所の所在地 | I69: 氏名又は団体名 | J69: 職 業
A70: 計 | B70: 立候補準備の ための支出 | C70: =SUM(人件費!M78,'家屋（選挙事務費）費'!M78,'家屋（集合会場費）費'!M78,通信費!M78,交通費!M78,印刷費!M78,広告費!M78,文具費!M78,食糧費!M105,休泊費!M78,雑費!M105) -> 0 | D70: 円
B71: 選挙運動の ための支出 | C71: =SUM(人件費!M79,'家屋（選挙事務費）費'!M79,'家屋（集合会場費）費'!M79,通信費!M79,交通費!M79,印刷費!M79,広告費!M79,文具費!M79,食糧費!M106,休泊費!M79,雑費!M106) -> 0
B72: 計 | C72: =SUM(C70:C71) -> 0
A73: 前回計 | B73: 立候補準備の ための支出 | C73: =C43 -> 0 | D73: 円
B74: 選挙運動の ための支出 | C74: =C44 -> 0
B75: 計 | C75: =SUM(C73:C74) -> 0
A76: 総 額 | B76: 立候補準備の ための支出 | C76: =C70+C73 -> 0 | D76: 円
B77: 選挙運動の ための支出 | C77: =C71+C74 -> 0
B78: 総 計 | C78: =SUM(C76:C77) -> 0
A79: 支出のうち 公費負担 相当額 | C79: 項 目 | G79: 単価（Ａ） | I79: 枚数（Ｂ） | K79: 金額（Ａ）×（Ｂ）＝（Ｃ）
C80: ビラの作成 | H80: 円 | J80: 枚 | K80: =G80*I80 -> 0 | M80: 円
C81: ポスターの作成 | H81: 円 | J81: 枚 | K81: =G81*I81 -> 0 | M81: 円
C82: 計 | K82: =SUM(K80:L81) -> 0 | M82: 円
B83: この報告書は、公職選挙法の規定に従って作製したものであって、真実に相違ありません。
B84: 令 和 | D84: 年
B85: 出納責任者 | D85: （住 所） | F85: =F19 -> 桂川町大字
D86: （氏 名） | F86: =F20 -> □□ □□
A87: 備 考
A88: １ | B88: 収入の部においては、一件１万円を超えるものについては各件ごとに記載し、一件１万円以下のものについては種別ごとに各収入日における合計額を一欄に記載するものとする。
B89: なお、寄附については、一件１万円以下のものについても必要に応じて各件ごとに記載してさしつかえない。
A90: ２ | B90: 収入の部中「種別」欄には、「寄附金」、「その他の収入」の区別を明記するものとする。
A91: ３ | B91: 収入の部中「参考｣欄には、選挙運動に係る公費負担相当額（ビラ、ポスターの作成にかかるものをいう。以下同じ）を記載するものとし、また、その他の参考となる事項を記載することができるものとする。
A92: ４ | B92: 支出の部中「区分」欄には、「立候補準備」のために支出した費用と「選挙運動」のために支出した費用との区別を明記するものとする。
A93: ５ | B93: 支出の部中「支出のうち公費負担相当額」欄には、選挙運動にかかる公費負担相当額を記載するものとする。
B94: ただし、各項目において二以上の契約がある場合には、契約ごとに欄を追加して記載するものとする。
A95: ６ | B95: 精算届出後の報告書にあっては、「収入の部」「支出の部」ともに前回報告した金額をあわせて総額の欄に記入するものとする。
A96: ７ | B96: 収入の部の記載については、会計帳簿の収入簿の２から６までの例により、支出の部の記載については、同支出簿の３から７までの例によるものとする。
A97: ８ | B97: 出納責任者本人が提出する場合にあつては本人確認書類の提示又は提出を、その代理人が提出する場合にあつては委任状の提示又は提出及び当該代理人の本人確認書類の提示又は提出を行うこと。
B98: ただし、出納責任者本人の署名その他の措置がある場合はこの限りではない。
A100: ５ | B100: 支出の部 | L100: （第４回） | O100: 4回目提出
A101: 月 日 | C101: 金額又は見積額 | E101: 区 分 | F101: 支出の目的 | G101: 支 出 を 受 け た 者 | K101: 金銭以外の支出の 見積の根拠 | L101: 備 考
G102: 住所又は主たる事務所の所在地 | I102: 氏名又は団体名 | J102: 職 業
A103: 計 | B103: 立候補準備の ための支出 | C103: =SUM(人件費!M105,'家屋（選挙事務費）費'!M105,'家屋（集合会場費）費'!M105,通信費!M105,交通費!M105,印刷費!M105,広告費!M105,文具費!M105,食糧費!M132,休泊費!M105,雑費!M132) -> 0 | D103: 円
...

Sheet 徴し難い明細書
A1: 領収書等を徴し難い事情があった支出の明細書
A3: 支出の年月日 | C3: 支出の金額 | E3: 区 分 | F3: 支出の目的 | G3: 領収書その他の支出を証すべき書面を 徴し難かった事情
D5: 円
I10: 立候補準備
I11: 選 挙 運 動
A13: １ | B13: 令和８年10月25日執行 | D13: =表紙!F3 -> 0
A15: ２ | B15: 公職の候補者 | D15: 住 所 | E15: =表紙!F5 -> 桂川町大字
D17: 氏 名 | E17: =表紙!F7 -> ○○ ○○
A19: ３ | B19: 出納責任者 | D19: 住 所 | E19: =支出合計!F19 -> 桂川町大字
D21: 氏 名 | E21: =支出合計!F20 -> □□ □□
A22: 備考
A23: 1 | B23: 「区分」の欄には、立候補準備のために要した費用及び選挙運動のために支出した費用の区別を明記するものとする。
A24: 2 | B24: 金融機関の振込みを領収書の代わりとする場合には、この様式に記載の上、金融機関の振込みの写しを添付すること。
